BEGIN:VCALENDAR
VERSION:2.0
PRODID:-//Nicole Konrad - ECPv6.15.17.1//NONSGML v1.0//EN
CALSCALE:GREGORIAN
METHOD:PUBLISH
X-WR-CALNAME:Nicole Konrad
X-ORIGINAL-URL:https://nicolekonrad.de
X-WR-CALDESC:Veranstaltungen für Nicole Konrad
REFRESH-INTERVAL;VALUE=DURATION:PT1H
X-Robots-Tag:noindex
X-PUBLISHED-TTL:PT1H
BEGIN:VTIMEZONE
TZID:Europe/Berlin
BEGIN:DAYLIGHT
TZOFFSETFROM:+0100
TZOFFSETTO:+0200
TZNAME:CEST
DTSTART:20220327T010000
END:DAYLIGHT
BEGIN:STANDARD
TZOFFSETFROM:+0200
TZOFFSETTO:+0100
TZNAME:CET
DTSTART:20221030T010000
END:STANDARD
BEGIN:DAYLIGHT
TZOFFSETFROM:+0100
TZOFFSETTO:+0200
TZNAME:CEST
DTSTART:20230326T010000
END:DAYLIGHT
BEGIN:STANDARD
TZOFFSETFROM:+0200
TZOFFSETTO:+0100
TZNAME:CET
DTSTART:20231029T010000
END:STANDARD
BEGIN:DAYLIGHT
TZOFFSETFROM:+0100
TZOFFSETTO:+0200
TZNAME:CEST
DTSTART:20240331T010000
END:DAYLIGHT
BEGIN:STANDARD
TZOFFSETFROM:+0200
TZOFFSETTO:+0100
TZNAME:CET
DTSTART:20241027T010000
END:STANDARD
BEGIN:DAYLIGHT
TZOFFSETFROM:+0100
TZOFFSETTO:+0200
TZNAME:CEST
DTSTART:20250330T010000
END:DAYLIGHT
BEGIN:STANDARD
TZOFFSETFROM:+0200
TZOFFSETTO:+0100
TZNAME:CET
DTSTART:20251026T010000
END:STANDARD
END:VTIMEZONE
BEGIN:VEVENT
DTSTART;VALUE=DATE:20231111
DTEND;VALUE=DATE:20240624
DTSTAMP:20260423T034232
CREATED:20201015T143814Z
LAST-MODIFIED:20221015T062742Z
UID:946-1699660800-1719187199@nicolekonrad.de
SUMMARY:200h Yogalehrerausbildung in Gummersbach bei Köln
DESCRIPTION:200h Yogalehrerausbildung in Köln\nEinzeltermine wie folgt:\n			\n			\n				\n				\n				\n				\n			\n			\n				\n				\n				\n				\n				\n				\n				\n				\n				\n				\n			\n			\n				\n				\n			\n				\n				\n				\n				\n				\n				\n				\n				\n				\n				\n				\n				\n				\n				\n				\n				\n				\n				\n11.+12.. Nov 23\n16.+17. Dez 23\n13+14 Jan 24\n27.+28. Jan 24\n9.-12. Feb 24\n9.+10. März\n13+14 April\n1.-5 Mai\n25+26 Mai\n8-9 Juni\n22+23 Juni\n\n			\n			\n				\n				\n				\n				\n				\n			\n				\n				\n				\n				\n				\n				\n				\n				\n				\n				Unterrichtszeiten: \n8:45- 16:30 Uhr \n(jeder Tag inkl. 45 Min. Mittagspause) \nFRAGEN zur Ausbildung? Lerne mich kennen. \n			\n			\n				\n				\n				\n				\n			\n				\n				\n			\n				\n				\n				\n				\n				\n				\n				\n				\n				\n				\n				\n				\n				\n				\n				\n				\n				\n				\n			\n			\n				\n				\n				\n				\n			\n				\n				\n			\n				\n				\n				\n				\n				\n				\n				\n				\n				\n				\n				\n				\n				\n				\n				\n				\n				\n				\n					\n				\n				\n				\n				\n				\n					Regulärer Tarif\n					\n				\n				\n					€3.690\n				\n				\n					Preis ab 01.01.2023\n				\n				\n			\n				\n				\n				\n				\n				\n					Frühbucher-Tarif\n					\n				\n				\n					€3.500\n				\n				\n					Preis bis 30.12.2022
URL:https://nicolekonrad.de/event/200h-yogalehrerausbildung-in-koeln-2021-22/
LOCATION:Veste 1 Gummersbach\, Veste 5\, Gummersbach\, 51647\, Deutschland
CATEGORIES:Ausbildung
ATTACH;FMTTYPE=image/jpeg:https://nicolekonrad.de/wp-content/uploads/2020/09/20200908_NICOLEKONRAD_2764_f.jpg
END:VEVENT
END:VCALENDAR