BEGIN:VCALENDAR
VERSION:2.0
PRODID:-//Nicole Konrad - ECPv6.15.17.1//NONSGML v1.0//EN
CALSCALE:GREGORIAN
METHOD:PUBLISH
X-WR-CALNAME:Nicole Konrad
X-ORIGINAL-URL:https://nicolekonrad.de
X-WR-CALDESC:Veranstaltungen für Nicole Konrad
REFRESH-INTERVAL;VALUE=DURATION:PT1H
X-Robots-Tag:noindex
X-PUBLISHED-TTL:PT1H
BEGIN:VTIMEZONE
TZID:Europe/Berlin
BEGIN:DAYLIGHT
TZOFFSETFROM:+0100
TZOFFSETTO:+0200
TZNAME:CEST
DTSTART:20230326T010000
END:DAYLIGHT
BEGIN:STANDARD
TZOFFSETFROM:+0200
TZOFFSETTO:+0100
TZNAME:CET
DTSTART:20231029T010000
END:STANDARD
BEGIN:DAYLIGHT
TZOFFSETFROM:+0100
TZOFFSETTO:+0200
TZNAME:CEST
DTSTART:20240331T010000
END:DAYLIGHT
BEGIN:STANDARD
TZOFFSETFROM:+0200
TZOFFSETTO:+0100
TZNAME:CET
DTSTART:20241027T010000
END:STANDARD
BEGIN:DAYLIGHT
TZOFFSETFROM:+0100
TZOFFSETTO:+0200
TZNAME:CEST
DTSTART:20250330T010000
END:DAYLIGHT
BEGIN:STANDARD
TZOFFSETFROM:+0200
TZOFFSETTO:+0100
TZNAME:CET
DTSTART:20251026T010000
END:STANDARD
END:VTIMEZONE
BEGIN:VEVENT
DTSTART;TZID=Europe/Berlin:20240831T080000
DTEND;TZID=Europe/Berlin:20240915T170000
DTSTAMP:20260422T232051
CREATED:20230519T185142Z
LAST-MODIFIED:20230519T190250Z
UID:13520-1725091200-1726419600@nicolekonrad.de
SUMMARY:Immersion 1 in Haan
DESCRIPTION:Anusara® Immersion 1 in Haan  \n\n31.8./1.9.24 (Immersion I\, A)\n14./15.9.24 (Immersion I\, B)\n\nPreis: Immersionsreihe 1-3: 1.990 €; \nfür Absolvent:innen meiner Ausbildung als auch für Absolventninnen einer Ausbildung bei Aude Vivere: Rabatt von 100 € (Gesamtpreis also 1.890 €) \neinzelne Immersion: 700 € \n			\n				\n				\n				\n				\n				  \nUnterrichtszeiten:\nsamstags von 8:30-18:00 Uhr\, sonntags von 08:30-17:00 Uhr \n  \n			\n			\n				\n				\n				\n				\n			\n			\n				\n				\n				\n				\n				\n				\n				\n				\n				\n				\n			\n			\n				\n				\n			\n				\n				\n				\n				\n				\n				\n				\n				\n				\n				\n				\n				\n				\n			\n				\n				\n				\n				\n			\n				\n				\n				\n				\n				\n				\n				Jetzt anmelden !\n			\n			\n				\n				\n				\n				\n			\n				\n				\n			\n				\n				\n				\n				\n				\n				\n				\n				\n				\n				\n				\n				\n				\n				\n				\n				\n				\n				\n					\n				\n				\n				\n				\n				\n					Immersion 1-3 komplett\n					\n				\n				\n					€1990\n				\n				\n					Preis für Anusara® Immersion 1 (a+b)\n				\n				\n			\n				\n				\n				\n				\n				\n					Immersion 1-3 für Ex-Azubis\n					\n				\n				\n					€1890\n				\n				\n					Anusara® Immersion 1-3 (je a+b)\n				\n				\n			\n				\n				\n				\n				\n				\n					nur Immersion 1\n					\n				\n				\n					€700\n				\n				\n					Anusara® Immersion 1 a+b
URL:https://nicolekonrad.de/event/immersion-1-in-haan/
LOCATION:Aude Vivere\, Bergische Str. 2\, Haan\, NRW\, 42781
ATTACH;FMTTYPE=image/jpeg:https://nicolekonrad.de/wp-content/uploads/2022/11/20200908_NICOLEKONRAD_2845_f-e1668524498971.jpeg
END:VEVENT
BEGIN:VEVENT
DTSTART;TZID=Europe/Berlin:20240906T080000
DTEND;TZID=Europe/Berlin:20240909T170000
DTSTAMP:20260422T232051
CREATED:20230427T060425Z
LAST-MODIFIED:20240523T084248Z
UID:13474-1725609600-1725901200@nicolekonrad.de
SUMMARY:Yoga Retreat - Nettetal - 6. - 8. September 2024
DESCRIPTION:Das Seminarhaus Leuther Mühle ist ca. 30 Min nördlich von Mönchengladbach im schönen Nettetal. In der Nähe befindet sich ein Stauseee und viele Möglichkeiten zum Wandern und Entspannen in schöner Natur. Das Seminarhaus verbindet historisches und modernes Ambiente. Helle\, geräumige Zimmer und die schöne Seminarräume bieten den perfekten Ort für ein Yoga-Retreat. \nDas Retreat ist offen für alle Yogis mit ein wenig Vorerfahrung. Es soll dir als kleine Auszeit zur persönlichen Einkehr dienen. Fließende Yogapraxis mit durchaus auch fordernden Elementen und eine sanfte\, kontemplative Praxis wechseln einander ab.\nJeden Tag nehmen wir uns Zeit für Meditation\, Stille und SEIN. \n\n\nHier mehr Infos.
URL:https://nicolekonrad.de/event/yoga-retreat-nettetal-17-19-mai-2024/
CATEGORIES:Retreat
ATTACH;FMTTYPE=image/jpeg:https://nicolekonrad.de/wp-content/uploads/2023/03/leuther-muehle-aussen-1.jpg
END:VEVENT
END:VCALENDAR