BEGIN:VCALENDAR
VERSION:2.0
PRODID:-//Nicole Konrad - ECPv6.15.17.1//NONSGML v1.0//EN
CALSCALE:GREGORIAN
METHOD:PUBLISH
X-ORIGINAL-URL:https://nicolekonrad.de
X-WR-CALDESC:Veranstaltungen für Nicole Konrad
REFRESH-INTERVAL;VALUE=DURATION:PT1H
X-Robots-Tag:noindex
X-PUBLISHED-TTL:PT1H
BEGIN:VTIMEZONE
TZID:Europe/Berlin
BEGIN:DAYLIGHT
TZOFFSETFROM:+0100
TZOFFSETTO:+0200
TZNAME:CEST
DTSTART:20230326T010000
END:DAYLIGHT
BEGIN:STANDARD
TZOFFSETFROM:+0200
TZOFFSETTO:+0100
TZNAME:CET
DTSTART:20231029T010000
END:STANDARD
BEGIN:DAYLIGHT
TZOFFSETFROM:+0100
TZOFFSETTO:+0200
TZNAME:CEST
DTSTART:20240331T010000
END:DAYLIGHT
BEGIN:STANDARD
TZOFFSETFROM:+0200
TZOFFSETTO:+0100
TZNAME:CET
DTSTART:20241027T010000
END:STANDARD
BEGIN:DAYLIGHT
TZOFFSETFROM:+0100
TZOFFSETTO:+0200
TZNAME:CEST
DTSTART:20250330T010000
END:DAYLIGHT
BEGIN:STANDARD
TZOFFSETFROM:+0200
TZOFFSETTO:+0100
TZNAME:CET
DTSTART:20251026T010000
END:STANDARD
BEGIN:DAYLIGHT
TZOFFSETFROM:+0100
TZOFFSETTO:+0200
TZNAME:CEST
DTSTART:20260329T010000
END:DAYLIGHT
BEGIN:STANDARD
TZOFFSETFROM:+0200
TZOFFSETTO:+0100
TZNAME:CET
DTSTART:20261025T010000
END:STANDARD
END:VTIMEZONE
BEGIN:VEVENT
DTSTART;TZID=Europe/Berlin:20241026T080000
DTEND;TZID=Europe/Berlin:20250216T170000
DTSTAMP:20260422T155436
CREATED:20230119T092503Z
LAST-MODIFIED:20230119T134737Z
UID:13261-1729929600-1739725200@nicolekonrad.de
SUMMARY:Anusara Teacher Training Ravensburg - ab Oktober 2024
DESCRIPTION:Anusara® Teacher Training in Ravensburg\nTERMINE LEHRERTRAINING: \n26+27 Okt 2428.11.-01.12.2416.01.-19.01.2513.2.-16.2.2025 \nDo\, Fr + Sa: 8:00-17:00 inkl. 1H PauseSo 8:00-13:00 inkl. 30 Min Pause \nPreis: 1.850 Frühbucher bis 01.01.2024regulär: 1.990€ \nund weitere Infos als auch die Möglichkeit zur Anmeldung findest du beim Yogaraum Ravensburg auf der Seite! \nBei Fragen\, melde dich gerne. \n  \n 
URL:https://nicolekonrad.de/event/anusara-teacher-training-ravensburg-ab-oktober-2024/
LOCATION:Yogaraum Ravensburg\, Raueneggstraße 1\, Ravensburg\, 88212
CATEGORIES:Ausbildung
ATTACH;FMTTYPE=image/jpeg:https://nicolekonrad.de/wp-content/uploads/2020/10/20200908_NICOLEKONRAD_3156f-scaled.jpg
END:VEVENT
BEGIN:VEVENT
DTSTART;TZID=Europe/Berlin:20250201T080000
DTEND;TZID=Europe/Berlin:20250202T170000
DTSTAMP:20260422T155436
CREATED:20241205T100916Z
LAST-MODIFIED:20241205T100916Z
UID:14900-1738396800-1738515600@nicolekonrad.de
SUMMARY:Adjustments - Yogalehrer-Fortbildung
DESCRIPTION:Adjustments/Hands On in Köln\n \n01. + 02. Februar 2025 \nMehr Infos hier.
URL:https://nicolekonrad.de/event/adjustments-yogalehrer-fortbildung/
LOCATION:Svagatam Yoga Studio Köln-Nippes\, Neusser Straße 216 4.Stock\, Köln\, NRW\, 50733\, Deutschland
CATEGORIES:Ausbildung,Workshop
ATTACH;FMTTYPE=image/jpeg:https://nicolekonrad.de/wp-content/uploads/2022/11/20200908_NICOLEKONRAD_2764_f.jpg
END:VEVENT
BEGIN:VEVENT
DTSTART;TZID=Europe/Berlin:20250222T080000
DTEND;TZID=Europe/Berlin:20250323T170000
DTSTAMP:20260422T155436
CREATED:20231114T081932Z
LAST-MODIFIED:20231114T090514Z
UID:13538-1740211200-1742749200@nicolekonrad.de
SUMMARY:Anusara Immersion 3 in Haan
DESCRIPTION:Anusara® Immersion 2 in Haan  \n\n22./23.2.25 (Immersion III\, A)\n22./23.3.25 (Immersion III\, B)\n\nPreis: Immersionsreihe 1-3: 1.990 €; \nfür Absolvent:innen meiner Ausbildung als auch für Absolventninnen einer Ausbildung bei Aude Vivere: Rabatt von 100 € (Gesamtpreis also 1.890 €) \neinzelne Immersion: 700 € \n			\n				\n				\n				\n				\n				  \nUnterrichtszeiten:\nsamstags von 8:30-18:00 Uhr\, sonntags von 08:30-17:00 Uhr \n  \n			\n			\n				\n				\n				\n				\n			\n			\n				\n				\n				\n				\n				\n				\n				\n				\n				\n				\n			\n			\n				\n				\n			\n				\n				\n				\n				\n				\n				\n				\n				\n				\n				\n				\n				\n				\n			\n				\n				\n				\n				\n			\n				\n				\n				\n				\n				\n				\n				Jetzt anmelden !\n			\n			\n				\n				\n				\n				\n			\n				\n				\n			\n				\n				\n				\n				\n				\n				\n				\n				\n				\n				\n				\n				\n				\n				\n				\n				\n				\n				\n					\n				\n				\n				\n				\n				\n					Immersion 1-3 komplett\n					\n				\n				\n					€1990\n				\n				\n					Preis für Anusara® Immersion 1 (a+b)\n				\n				\n			\n				\n				\n				\n				\n				\n					Immersion 1-3 für Ex-Azubis\n					\n				\n				\n					€1890\n				\n				\n					Anusara® Immersion 1-3 (je a+b)\n				\n				\n			\n				\n				\n				\n				\n				\n					nur Immersion 3\n					\n				\n				\n					€700\n				\n				\n					Anusara® Immersion 3 a+b
URL:https://nicolekonrad.de/event/anusara-immersion-3-in-haan/
CATEGORIES:Ausbildung
ATTACH;FMTTYPE=image/jpeg:https://nicolekonrad.de/wp-content/uploads/2020/10/20200908_NICOLEKONRAD_2935f-scaled.jpg
END:VEVENT
END:VCALENDAR