BEGIN:VCALENDAR
VERSION:2.0
PRODID:-//Nicole Konrad - ECPv6.15.17.1//NONSGML v1.0//EN
CALSCALE:GREGORIAN
METHOD:PUBLISH
X-WR-CALNAME:Nicole Konrad
X-ORIGINAL-URL:https://nicolekonrad.de
X-WR-CALDESC:Veranstaltungen für Nicole Konrad
REFRESH-INTERVAL;VALUE=DURATION:PT1H
X-Robots-Tag:noindex
X-PUBLISHED-TTL:PT1H
BEGIN:VTIMEZONE
TZID:Europe/Berlin
BEGIN:DAYLIGHT
TZOFFSETFROM:+0100
TZOFFSETTO:+0200
TZNAME:CEST
DTSTART:20240331T010000
END:DAYLIGHT
BEGIN:STANDARD
TZOFFSETFROM:+0200
TZOFFSETTO:+0100
TZNAME:CET
DTSTART:20241027T010000
END:STANDARD
BEGIN:DAYLIGHT
TZOFFSETFROM:+0100
TZOFFSETTO:+0200
TZNAME:CEST
DTSTART:20250330T010000
END:DAYLIGHT
BEGIN:STANDARD
TZOFFSETFROM:+0200
TZOFFSETTO:+0100
TZNAME:CET
DTSTART:20251026T010000
END:STANDARD
BEGIN:DAYLIGHT
TZOFFSETFROM:+0100
TZOFFSETTO:+0200
TZNAME:CEST
DTSTART:20260329T010000
END:DAYLIGHT
BEGIN:STANDARD
TZOFFSETFROM:+0200
TZOFFSETTO:+0100
TZNAME:CET
DTSTART:20261025T010000
END:STANDARD
END:VTIMEZONE
BEGIN:VEVENT
DTSTART;TZID=Europe/Berlin:20250524T080000
DTEND;TZID=Europe/Berlin:20251130T170000
DTSTAMP:20260420T085339
CREATED:20230107T075039Z
LAST-MODIFIED:20251110T105022Z
UID:13225-1748073600-1764522000@nicolekonrad.de
SUMMARY:Anusara Teacher Training - Haan- ab Mai 2025
DESCRIPTION:Anusara® Teacher Training in Haan\nTERMINE LEHRERTRAINING: \n24.+25. Mai 202514.+15. Juni 202505.+06. Juli 202506.+07. Sept 202501.+02. Nov 202529.+30. Nov 2025 \nUnterrichtszeiten:samstags: 08:30-18:00 Uhr sonntags: 08:30-17:00 UhrDie Zeiten verstehen sich inkl. 1 Stunde Mittagspause. \nBei Fragen\, melde dich gerne jederzeit bei mir. \n  \n 
URL:https://nicolekonrad.de/event/anusara-teacher-training-haan-mai-2025/
LOCATION:Aude Vivere\, Bergische Str. 2\, Haan\, NRW\, 42781
CATEGORIES:Ausbildung
ATTACH;FMTTYPE=image/jpeg:https://nicolekonrad.de/wp-content/uploads/2022/11/20200908_NICOLEKONRAD_2790_f.jpeg
END:VEVENT
END:VCALENDAR